BEGIN:VCALENDAR
VERSION:2.0
PRODID:-//Soziokulturelles Zentrum Burg - ECPv6.15.20//NONSGML v1.0//EN
CALSCALE:GREGORIAN
METHOD:PUBLISH
X-WR-CALNAME:Soziokulturelles Zentrum Burg
X-ORIGINAL-URL:https://skz-burg.bplaced.net
X-WR-CALDESC:Veranstaltungen für Soziokulturelles Zentrum Burg
REFRESH-INTERVAL;VALUE=DURATION:PT1H
X-Robots-Tag:noindex
X-PUBLISHED-TTL:PT1H
BEGIN:VTIMEZONE
TZID:Europe/Berlin
BEGIN:DAYLIGHT
TZOFFSETFROM:+0100
TZOFFSETTO:+0200
TZNAME:CEST
DTSTART:20250330T010000
END:DAYLIGHT
BEGIN:STANDARD
TZOFFSETFROM:+0200
TZOFFSETTO:+0100
TZNAME:CET
DTSTART:20251026T010000
END:STANDARD
BEGIN:DAYLIGHT
TZOFFSETFROM:+0100
TZOFFSETTO:+0200
TZNAME:CEST
DTSTART:20260329T010000
END:DAYLIGHT
BEGIN:STANDARD
TZOFFSETFROM:+0200
TZOFFSETTO:+0100
TZNAME:CET
DTSTART:20261025T010000
END:STANDARD
BEGIN:DAYLIGHT
TZOFFSETFROM:+0100
TZOFFSETTO:+0200
TZNAME:CEST
DTSTART:20270328T010000
END:DAYLIGHT
BEGIN:STANDARD
TZOFFSETFROM:+0200
TZOFFSETTO:+0100
TZNAME:CET
DTSTART:20271031T010000
END:STANDARD
END:VTIMEZONE
BEGIN:VEVENT
DTSTART;TZID=Europe/Berlin:20260327T083000
DTEND;TZID=Europe/Berlin:20260703T123000
DTSTAMP:20260425T174233
CREATED:20250811T060320Z
LAST-MODIFIED:20260409T083249Z
UID:5550-1774600200-1783081800@skz-burg.bplaced.net
SUMMARY:Erstorientierungskurs für Schutzsuchende und Zugewanderte in Sachsen-Anhalt
DESCRIPTION:In Zusammenarbeit mit DAA Deutsche Angestellten-Akademie GmbH findet der Erstorientierungskurs von Montag bis Freitag jeweils 8:30 bis 12:30Uhr statt. \nFolgende Module werden besprochen: \n• Alltag in Deutschland\n• Orientierung vor Ort/Verkehr/Mobilität\n• Einkaufen\n• Gesundheit/medizinische Versorgung\n• Sitten und Gebräuche in Deutschland/lokale Besonderheiten\n• Werte und Zusammenleben \nDie Anmeldung erfolgt vor Ort im SoKuZ.Flyer EOK
URL:https://skz-burg.bplaced.net/event/erstorientierung-und-wertevermittlung-fuer-schutzsuchende-und-zugewanderte-in-sachsen-anhalt/
LOCATION:Soziokulturelles Zentrum Burg\, August-Bebel-Straße 30\, Burg\, 39288
CATEGORIES:Events,Mehrgenerationhaus „MGH“
ORGANIZER;CN="Deutsche Angestellten-Akademie GmbH":MAILTO:annette.bode@daa.de
END:VEVENT
END:VCALENDAR