BEGIN:VCALENDAR
VERSION:2.0
PRODID:-//Soziokulturelles Zentrum Burg - ECPv6.15.20//NONSGML v1.0//EN
CALSCALE:GREGORIAN
METHOD:PUBLISH
X-WR-CALNAME:Soziokulturelles Zentrum Burg
X-ORIGINAL-URL:https://skz-burg.bplaced.net
X-WR-CALDESC:Veranstaltungen für Soziokulturelles Zentrum Burg
REFRESH-INTERVAL;VALUE=DURATION:PT1H
X-Robots-Tag:noindex
X-PUBLISHED-TTL:PT1H
BEGIN:VTIMEZONE
TZID:Europe/Berlin
BEGIN:DAYLIGHT
TZOFFSETFROM:+0100
TZOFFSETTO:+0200
TZNAME:CEST
DTSTART:20250330T010000
END:DAYLIGHT
BEGIN:STANDARD
TZOFFSETFROM:+0200
TZOFFSETTO:+0100
TZNAME:CET
DTSTART:20251026T010000
END:STANDARD
BEGIN:DAYLIGHT
TZOFFSETFROM:+0100
TZOFFSETTO:+0200
TZNAME:CEST
DTSTART:20260329T010000
END:DAYLIGHT
BEGIN:STANDARD
TZOFFSETFROM:+0200
TZOFFSETTO:+0100
TZNAME:CET
DTSTART:20261025T010000
END:STANDARD
BEGIN:DAYLIGHT
TZOFFSETFROM:+0100
TZOFFSETTO:+0200
TZNAME:CEST
DTSTART:20270328T010000
END:DAYLIGHT
BEGIN:STANDARD
TZOFFSETFROM:+0200
TZOFFSETTO:+0100
TZNAME:CET
DTSTART:20271031T010000
END:STANDARD
END:VTIMEZONE
BEGIN:VEVENT
DTSTART;TZID=Europe/Berlin:20260327T083000
DTEND;TZID=Europe/Berlin:20260703T123000
DTSTAMP:20260424T161351
CREATED:20250811T060320Z
LAST-MODIFIED:20260409T083249Z
UID:5550-1774600200-1783081800@skz-burg.bplaced.net
SUMMARY:Erstorientierungskurs für Schutzsuchende und Zugewanderte in Sachsen-Anhalt
DESCRIPTION:In Zusammenarbeit mit DAA Deutsche Angestellten-Akademie GmbH findet der Erstorientierungskurs von Montag bis Freitag jeweils 8:30 bis 12:30Uhr statt. \nFolgende Module werden besprochen: \n• Alltag in Deutschland\n• Orientierung vor Ort/Verkehr/Mobilität\n• Einkaufen\n• Gesundheit/medizinische Versorgung\n• Sitten und Gebräuche in Deutschland/lokale Besonderheiten\n• Werte und Zusammenleben \nDie Anmeldung erfolgt vor Ort im SoKuZ.Flyer EOK
URL:https://skz-burg.bplaced.net/event/erstorientierung-und-wertevermittlung-fuer-schutzsuchende-und-zugewanderte-in-sachsen-anhalt/
LOCATION:Soziokulturelles Zentrum Burg\, August-Bebel-Straße 30\, Burg\, 39288
CATEGORIES:Events,Mehrgenerationhaus „MGH“
ORGANIZER;CN="Deutsche Angestellten-Akademie GmbH":MAILTO:annette.bode@daa.de
END:VEVENT
BEGIN:VEVENT
DTSTART;TZID=Europe/Berlin:20260423T150000
DTEND;TZID=Europe/Berlin:20260423T180000
DTSTAMP:20260424T161351
CREATED:20250910T101805Z
LAST-MODIFIED:20260408T073021Z
UID:5567-1776956400-1776967200@skz-burg.bplaced.net
SUMMARY:Mamaoase - Austausch für Mütter mit Kinderbetreuung
DESCRIPTION:Die Mamaoase ist ein Ort speziell für Mütter zum austauschen\, Kraft tanken\, neue Impulse setzen oder einfach mal zum Durchatmen und da sein. Kinderbetreuung inklusive. \nVeranstaltungsort: 39288 Burg\, August-Bebel-Straße 30 – Soziokulturelles Zentrum (Zugänglich für Menschen mit Rollstuhl\, rollstuhlgerechte Toilette vorhanden)\n \nVeranstalterin: Mädchen- und Frauenkommunikationszentrum Burg \nAnmeldung erwünscht unter Tel: 03921 98 93 90 oder 03921 3158 oder  \nE-Mail: sokuz@rolandmuehle-burg.de
URL:https://skz-burg.bplaced.net/event/mamaoase-austausch-fuer-muetter-mit-kinderbetreuung/
LOCATION:Soziokulturelles Zentrum Burg\, August-Bebel-Straße 30\, Burg\, 39288
CATEGORIES:Events,Mädchen- und Frauenkommunikationsz. „Tea-Treff“,Mehrgenerationhaus „MGH“
ATTACH;FMTTYPE=image/png:https://skz-burg.bplaced.net/wp-content/uploads/2025/09/Mamaoase-Instagram-Post-45.png
ORGANIZER;CN="TEA-Treff":MAILTO:fz-teatreff@rolandmuehle-burg.de
END:VEVENT
BEGIN:VEVENT
DTSTART;TZID=Europe/Berlin:20260423T160000
DTEND;TZID=Europe/Berlin:20260423T170000
DTSTAMP:20260424T161351
CREATED:20250122T133119Z
LAST-MODIFIED:20260423T055025Z
UID:5469-1776960000-1776963600@skz-burg.bplaced.net
SUMMARY:Mädchensprechstunde
DESCRIPTION:Hast du Probleme\, Angst oder einfach Langeweile?\nBeschäftigen dich Fragen\, Unsicherheiten oder Streit mit jemandem?\nOder hast du Lust zu reden oder kreativ zu sein? \nEgal\, was dich gerade bewegt – in der Mädchensprechstunde bist du willkommen.\nDu kannst alleine kommen oder eine Freundin zur Unterstützung mitbringen.\nAlles\, was wir besprechen\, bleibt selbstverständlich vertraulich. \n  \nDu hast Fragen\, dann melde Dich unter fz-teatreff@rolandmuehle-burg.de\noder per Telefon unter 03921 5158 oder 03921 989390.
URL:https://skz-burg.bplaced.net/event/maedchensprechstunde/
LOCATION:Soziokulturelles Zentrum Burg\, August-Bebel-Straße 30\, Burg\, 39288
CATEGORIES:Events,Mädchen- und Frauenkommunikationsz. „Tea-Treff“
ATTACH;FMTTYPE=image/png:https://skz-burg.bplaced.net/wp-content/uploads/2025/01/INSTA_Maedchensprechstunde.png
ORGANIZER;CN="TEA-Treff":MAILTO:fz-teatreff@rolandmuehle-burg.de
END:VEVENT
END:VCALENDAR